BEGIN:VCALENDAR
VERSION:2.0
PRODID:-//Living the Way - ECPv6.15.18//NONSGML v1.0//EN
CALSCALE:GREGORIAN
METHOD:PUBLISH
X-WR-CALNAME:Living the Way
X-ORIGINAL-URL:https://livingtheway.com
X-WR-CALDESC:Events for Living the Way
REFRESH-INTERVAL;VALUE=DURATION:PT1H
X-Robots-Tag:noindex
X-PUBLISHED-TTL:PT1H
BEGIN:VTIMEZONE
TZID:America/New_York
BEGIN:DAYLIGHT
TZOFFSETFROM:-0500
TZOFFSETTO:-0400
TZNAME:EDT
DTSTART:20250309T070000
END:DAYLIGHT
BEGIN:STANDARD
TZOFFSETFROM:-0400
TZOFFSETTO:-0500
TZNAME:EST
DTSTART:20251102T060000
END:STANDARD
BEGIN:DAYLIGHT
TZOFFSETFROM:-0500
TZOFFSETTO:-0400
TZNAME:EDT
DTSTART:20260308T070000
END:DAYLIGHT
BEGIN:STANDARD
TZOFFSETFROM:-0400
TZOFFSETTO:-0500
TZNAME:EST
DTSTART:20261101T060000
END:STANDARD
BEGIN:DAYLIGHT
TZOFFSETFROM:-0500
TZOFFSETTO:-0400
TZNAME:EDT
DTSTART:20270314T070000
END:DAYLIGHT
BEGIN:STANDARD
TZOFFSETFROM:-0400
TZOFFSETTO:-0500
TZNAME:EST
DTSTART:20271107T060000
END:STANDARD
END:VTIMEZONE
BEGIN:VEVENT
DTSTART;TZID=America/New_York:20260412T090000
DTEND;TZID=America/New_York:20260412T110000
DTSTAMP:20260423T202150
CREATED:20260327T204210Z
LAST-MODIFIED:20260327T204210Z
UID:21144-1775984400-1775991600@livingtheway.com
SUMMARY:Bujinkan Training Class 
DESCRIPTION:Join us for our regular Bujinkan training class. \n  \nContact Sheila for address details.
URL:https://livingtheway.com/event/bujinkan-training-class-2/
LOCATION:Palm Harbor Dojo\, Palm Harbor\, Florida
END:VEVENT
BEGIN:VEVENT
DTSTART;TZID=America/New_York:20260322T090000
DTEND;TZID=America/New_York:20260322T110000
DTSTAMP:20260423T202150
CREATED:20251204T212812Z
LAST-MODIFIED:20251204T212958Z
UID:21133-1774170000-1774177200@livingtheway.com
SUMMARY:Bujinkan Training Class 
DESCRIPTION:Join us for our regular Bujinkan training class. \n  \nContact Sheila for address details.
URL:https://livingtheway.com/event/bujinkan-training-classjoin-us-for-our-regular-bujinkan-training-class/
LOCATION:Palm Harbor Dojo\, Palm Harbor\, Florida
CATEGORIES:Bujinkan Class
END:VEVENT
BEGIN:VEVENT
DTSTART;TZID=America/New_York:20260308T090000
DTEND;TZID=America/New_York:20260308T110000
DTSTAMP:20260423T202150
CREATED:20251204T212609Z
LAST-MODIFIED:20251204T213013Z
UID:21131-1772960400-1772967600@livingtheway.com
SUMMARY:Bujinkan Training Class
DESCRIPTION:Join us for our regular Bujinkan training class. \nContact Sheila for address details.
URL:https://livingtheway.com/event/bujinkan-training-class/
LOCATION:Palm Harbor Dojo\, Palm Harbor\, Florida
CATEGORIES:Bujinkan Class
END:VEVENT
BEGIN:VEVENT
DTSTART;TZID=America/New_York:20260125T090000
DTEND;TZID=America/New_York:20260125T110000
DTSTAMP:20260423T202150
CREATED:20251204T212100Z
LAST-MODIFIED:20251204T213028Z
UID:21126-1769331600-1769338800@livingtheway.com
SUMMARY:Bujinkan Training Class
DESCRIPTION:Join us for our regular Bujinkan training class. \n 
URL:https://livingtheway.com/event/bujinkan-class-2/
LOCATION:Philippe Park\, Safety Harbor\, Florida
CATEGORIES:Bujinkan Class
END:VEVENT
BEGIN:VEVENT
DTSTART;TZID=America/New_York:20260111T090000
DTEND;TZID=America/New_York:20260111T230000
DTSTAMP:20260423T202150
CREATED:20251202T204805Z
LAST-MODIFIED:20251204T212942Z
UID:21112-1768122000-1768172400@livingtheway.com
SUMMARY:Bujinkan Training Class
DESCRIPTION:Join us for our regular Bujinkan Class.
URL:https://livingtheway.com/event/bujinkan-class/
LOCATION:Philippe Park\, Safety Harbor\, Florida
CATEGORIES:Bujinkan Class
ATTACH;FMTTYPE=image/png:https://livingtheway.com/wp-content/uploads/2019/11/budo.png
END:VEVENT
END:VCALENDAR