BEGIN:VCALENDAR
VERSION:2.0
PRODID:-//Living the Way - ECPv6.15.18//NONSGML v1.0//EN
CALSCALE:GREGORIAN
METHOD:PUBLISH
X-ORIGINAL-URL:https://livingtheway.com
X-WR-CALDESC:Events for Living the Way
REFRESH-INTERVAL;VALUE=DURATION:PT1H
X-Robots-Tag:noindex
X-PUBLISHED-TTL:PT1H
BEGIN:VTIMEZONE
TZID:America/New_York
BEGIN:DAYLIGHT
TZOFFSETFROM:-0500
TZOFFSETTO:-0400
TZNAME:EDT
DTSTART:20250309T070000
END:DAYLIGHT
BEGIN:STANDARD
TZOFFSETFROM:-0400
TZOFFSETTO:-0500
TZNAME:EST
DTSTART:20251102T060000
END:STANDARD
BEGIN:DAYLIGHT
TZOFFSETFROM:-0500
TZOFFSETTO:-0400
TZNAME:EDT
DTSTART:20260308T070000
END:DAYLIGHT
BEGIN:STANDARD
TZOFFSETFROM:-0400
TZOFFSETTO:-0500
TZNAME:EST
DTSTART:20261101T060000
END:STANDARD
BEGIN:DAYLIGHT
TZOFFSETFROM:-0500
TZOFFSETTO:-0400
TZNAME:EDT
DTSTART:20270314T070000
END:DAYLIGHT
BEGIN:STANDARD
TZOFFSETFROM:-0400
TZOFFSETTO:-0500
TZNAME:EST
DTSTART:20271107T060000
END:STANDARD
END:VTIMEZONE
BEGIN:VEVENT
DTSTART;TZID=America/New_York:20260412T090000
DTEND;TZID=America/New_York:20260412T110000
DTSTAMP:20260423T202215
CREATED:20260327T204210Z
LAST-MODIFIED:20260327T204210Z
UID:21144-1775984400-1775991600@livingtheway.com
SUMMARY:Bujinkan Training Class 
DESCRIPTION:Join us for our regular Bujinkan training class. \n  \nContact Sheila for address details.
URL:https://livingtheway.com/event/bujinkan-training-class-2/
LOCATION:Palm Harbor Dojo\, Palm Harbor\, Florida
END:VEVENT
BEGIN:VEVENT
DTSTART;TZID=America/New_York:20260426T090000
DTEND;TZID=America/New_York:20260426T110000
DTSTAMP:20260423T202215
CREATED:20260327T204447Z
LAST-MODIFIED:20260327T204447Z
UID:21146-1777194000-1777201200@livingtheway.com
SUMMARY:Bujinkan Training Class 
DESCRIPTION:Join us for our regular Bujinkan training class. \n  \nContact Sheila for address details.
URL:https://livingtheway.com/event/bujinkan-training-class-3/
LOCATION:Palm Harbor Dojo\, Palm Harbor\, Florida
END:VEVENT
BEGIN:VEVENT
DTSTART;TZID=America/New_York:20260510T090000
DTEND;TZID=America/New_York:20260510T110000
DTSTAMP:20260423T202215
CREATED:20260327T204622Z
LAST-MODIFIED:20260327T204622Z
UID:21148-1778403600-1778410800@livingtheway.com
SUMMARY:Bujinkan Training Class 
DESCRIPTION:Join us for our regular Bujinkan training class. \n  \nContact Sheila for address details.
URL:https://livingtheway.com/event/bujinkan-training-class-4/
LOCATION:Palm Harbor Dojo\, Palm Harbor\, Florida
END:VEVENT
BEGIN:VEVENT
DTSTART;TZID=America/New_York:20260524T090000
DTEND;TZID=America/New_York:20260524T110000
DTSTAMP:20260423T202215
CREATED:20260327T204737Z
LAST-MODIFIED:20260327T204737Z
UID:21150-1779613200-1779620400@livingtheway.com
SUMMARY:Bujinkan Training Class 
DESCRIPTION:Join us for our regular Bujinkan training class. \n  \nContact Sheila for address details.
URL:https://livingtheway.com/event/bujinkan-training-class-5/
LOCATION:Palm Harbor Dojo\, Palm Harbor\, Florida
END:VEVENT
END:VCALENDAR